BEGIN:VCALENDAR
VERSION:2.0
PRODID:-//eventon.com NONSGML v1.0//EN
CALSCALE:GREGORIAN
METHOD:PUBLISH
BEGIN:VEVENT
UID:69e5fcc650b3e
DTSTAMP:20260420T101534
DTSTART:20241024T190000Z
DTEND:20241024T230000Z
TZID:America/New_York
LOCATION:Uplands 9 Rue Speid\,  Sherbrooke\,  QC J1M 1R9
SUMMARY:MIGRATORY ROOTS FESTIVAL
DESCRIPTION: Festival Trajectoires Enracinées Cinq semaines d&rsquo;événements gratuits sont organisés par Literacy in Action dans 6 communautés de l&rsquo;Estrie! Le festival combine l’art communautaire\,  le conte et la poésie et explore cette anée le thème de la nature. Les festivités pour Lennoxville auront lieu à Uplands le jeudi 24 octobre 2024\, [..]\nhttps://uplands.ca/events/migratory-roots-festival-2/
URL:https://uplands.ca/events/migratory-roots-festival-2/
END:VEVENT
END:VCALENDAR