BEGIN:VCALENDAR
VERSION:2.0
PRODID:-//eventon.com NONSGML v1.0//EN
CALSCALE:GREGORIAN
METHOD:PUBLISH
BEGIN:VEVENT
UID:69e6382a41bd3
DTSTAMP:20260420T142858
DTSTART:20240907T160000Z
DTEND:20240907T190000Z
TZID:America/New_York
LOCATION:Domaine Howard 1300 boulevard de Portland
SUMMARY:Rendez-vous d'Howard
DESCRIPTION: Samedi 7 septembre 2024 Uplands&nbsp;se joint au&nbsp;Rendez-vous d’Howard&nbsp;pour vous offrir un thé de l&rsquo;après-midi au Domaine Howard. Profitez d&rsquo;une activité empreinte du charme d&rsquo;antan et mettant en valeur le riche patrimoine des Cantons-de-l’Est! Menu : thé\,  bouchées salées et sucrées. Les billets sont à vendre au prix de 15$ par[..]\nhttps://uplands.ca/events/rendez-vous-dhoward-2/
URL:https://uplands.ca/events/rendez-vous-dhoward-2/
END:VEVENT
END:VCALENDAR