BEGIN:VCALENDAR
VERSION:2.0
PRODID:-//eventon.com NONSGML v1.0//EN
CALSCALE:GREGORIAN
METHOD:PUBLISH
BEGIN:VEVENT
UID:69e4c22b400f4
DTSTAMP:20260419T115315
DTSTART:20231026T180000Z
DTEND:20231026T200000Z
TZID:America/New_York
LOCATION:Uplands 9 Rue Speid\,  Sherbrooke\,  QC J1M 1R9
SUMMARY:MIGRATORY ROOTS FESTIVAL
DESCRIPTION: Festival Trajectoires Enracinées Trois semaines d&#8217;événements gratuits sont organisés par Literacy in Action! Le festival combine l’art communautaire et les oeuvres d’artistes anglophones émergents qui explorent les histoires personnelles de mouvement\,  de migration et d’appartenance à la région. ➡Ouverture des festivités à Uplands\,  le jeudi 26 octobre 2023. ➡Exposition dans[..]\nhttps://uplands.ca/events/migratory-roots-festival/?lang=en
URL:https://uplands.ca/events/migratory-roots-festival/?lang=en
END:VEVENT
END:VCALENDAR