BEGIN:VCALENDAR
VERSION:2.0
PRODID:-//eventon.com NONSGML v1.0//EN
CALSCALE:GREGORIAN
METHOD:PUBLISH
BEGIN:VEVENT
UID:69e5f9d25807f
DTSTAMP:20260420T100258
DTSTART:20230715T143000Z
DTEND:20230715T153000Z
TZID:America/New_York
LOCATION:Uplands 9 Rue Speid\,  Sherbrooke\,  QC J1M 1R9
SUMMARY:L'heure du conte
DESCRIPTION: L&#8217;heure du conte à Uplands Une activité «L&#8217;heure du conte en plein air» présentée par les Bibliothèques de Sherbrooke aura lieu à Uplands samedi le 15 juillet 2023\,  à 10h30! Tous les détails sont disponibles ICI *L&#8217;activité sera annulée en cas de pluie // Storytelling Activity at Uplands A storytelling[..]\nhttps://uplands.ca/events/lheure-du-conte-2/?lang=en
URL:https://uplands.ca/events/lheure-du-conte-2/?lang=en
END:VEVENT
END:VCALENDAR