BEGIN:VCALENDAR
VERSION:2.0
PRODID:-//eventon.com NONSGML v1.0//EN
CALSCALE:GREGORIAN
METHOD:PUBLISH
BEGIN:VEVENT
UID:69e4c22b31efa
DTSTAMP:20260419T115315
DTSTART:20230221T180000Z
DTEND:20230221T200000Z
TZID:America/New_York
LOCATION:Uplands 9 Rue Speid\,  Sherbrooke\,  QC J1M 1R9
SUMMARY:Rencontre-événement
DESCRIPTION: Activité «Montre et raconte» La Société d&#8217;histoire et du musée de Lennoxville-Ascot vous invite à son activité «Show &amp; Tell / Montre et raconte» qui se tiendra à Uplands le 21 février prochain à partir de 13h30.  L&#8217;entrée et gratuite. Toutes et tous sont bienvenus! ➡ Animation en anglais // Show and[..]\nhttps://uplands.ca/events/rencontre-evenement/?lang=en
URL:https://uplands.ca/events/rencontre-evenement/?lang=en
END:VEVENT
END:VCALENDAR