BEGIN:VCALENDAR
VERSION:2.0
PRODID:-//eventon.com NONSGML v1.0//EN
CALSCALE:GREGORIAN
METHOD:PUBLISH
BEGIN:VEVENT
UID:69e4c147cce8f
DTSTAMP:20260419T114927
DTSTART:20220611
DTEND:20220613
TZID:America/New_York
LOCATION:Uplands 9 Rue Speid\,  Sherbrooke\,  QC J1M 1R9
SUMMARY:Friendship Day
DESCRIPTION: 11 JUIN 2022 Samedi le 11 juin\,  c&rsquo;est la fête de l&rsquo;amitié dans l&rsquo;arrondissement de Lennoxville! Passez nous voir! La Société d&rsquo;histoire et du musée de Lennoxville-Ascot servira du gâteau maison et de la crème glacée sur la véranda d&rsquo;Uplands\,  entre 12h et 16h. Visitez la page Facebook de Friendship[..]\nhttps://uplands.ca/events/friendship-day/
URL:https://uplands.ca/events/friendship-day/
END:VEVENT
END:VCALENDAR